BEGIN:VCALENDAR
VERSION:2.0
PRODID:-//Evangelisch-Lutherische Kirchengemeinde Freilassing - ECPv6.15.18//NONSGML v1.0//EN
CALSCALE:GREGORIAN
METHOD:PUBLISH
X-WR-CALNAME:Evangelisch-Lutherische Kirchengemeinde Freilassing
X-ORIGINAL-URL:https://www.freilassing-evangelisch.de
X-WR-CALDESC:Veranstaltungen für Evangelisch-Lutherische Kirchengemeinde Freilassing
REFRESH-INTERVAL;VALUE=DURATION:PT1H
X-Robots-Tag:noindex
X-PUBLISHED-TTL:PT1H
BEGIN:VTIMEZONE
TZID:Europe/Berlin
BEGIN:DAYLIGHT
TZOFFSETFROM:+0100
TZOFFSETTO:+0200
TZNAME:CEST
DTSTART:20250330T010000
END:DAYLIGHT
BEGIN:STANDARD
TZOFFSETFROM:+0200
TZOFFSETTO:+0100
TZNAME:CET
DTSTART:20251026T010000
END:STANDARD
BEGIN:DAYLIGHT
TZOFFSETFROM:+0100
TZOFFSETTO:+0200
TZNAME:CEST
DTSTART:20260329T010000
END:DAYLIGHT
BEGIN:STANDARD
TZOFFSETFROM:+0200
TZOFFSETTO:+0100
TZNAME:CET
DTSTART:20261025T010000
END:STANDARD
BEGIN:DAYLIGHT
TZOFFSETFROM:+0100
TZOFFSETTO:+0200
TZNAME:CEST
DTSTART:20270328T010000
END:DAYLIGHT
BEGIN:STANDARD
TZOFFSETFROM:+0200
TZOFFSETTO:+0100
TZNAME:CET
DTSTART:20271031T010000
END:STANDARD
END:VTIMEZONE
BEGIN:VEVENT
DTSTART;TZID=Europe/Berlin:20260423T190000
DTEND;TZID=Europe/Berlin:20260423T203000
DTSTAMP:20260423T010509
CREATED:20260414T115450Z
LAST-MODIFIED:20260414T115450Z
UID:25824-1776970800-1776976200@www.freilassing-evangelisch.de
SUMMARY:Gospelspirit-Probe in der der Kreuzkirche (Hager)
DESCRIPTION:
URL:https://www.freilassing-evangelisch.de/veranstaltung/gospelspirit-probe-im-gemeindehaus-an-der-kreuzkirche-hager-7-2/
LOCATION:Gemeindehaus Freilassing\, Schulstraße 3a\, Freilassing\, 83395\, Deutschland
CATEGORIES:Chöre,Gemeindehaus Freilassing,Veranstaltungen
END:VEVENT
BEGIN:VEVENT
DTSTART;TZID=Europe/Berlin:20260423T200000
DTEND;TZID=Europe/Berlin:20260423T210000
DTSTAMP:20260423T010509
CREATED:20260414T115550Z
LAST-MODIFIED:20260414T115550Z
UID:25826-1776974400-1776978000@www.freilassing-evangelisch.de
SUMMARY:Posaunenchor im Gemeindezentrum Auferstehungskirche (Flat)
DESCRIPTION:
URL:https://www.freilassing-evangelisch.de/veranstaltung/posaunenchor-im-auferstehungszentrum-flat-9-2-2/
LOCATION:Gemeindezentrum Mitterfelden\, Franz-Schubert Str.1.\, Ainring-Mtterfelden\, Bayern\, 83404\, Deutschland
CATEGORIES:Chöre,Gemeindezentrum Mitterfelden,Veranstaltungen
END:VEVENT
END:VCALENDAR