BEGIN:VCALENDAR
VERSION:2.0
PRODID:-//Evangelisch-Lutherische Kirchengemeinde Freilassing - ECPv6.15.18//NONSGML v1.0//EN
CALSCALE:GREGORIAN
METHOD:PUBLISH
X-WR-CALNAME:Evangelisch-Lutherische Kirchengemeinde Freilassing
X-ORIGINAL-URL:https://www.freilassing-evangelisch.de
X-WR-CALDESC:Veranstaltungen für Evangelisch-Lutherische Kirchengemeinde Freilassing
REFRESH-INTERVAL;VALUE=DURATION:PT1H
X-Robots-Tag:noindex
X-PUBLISHED-TTL:PT1H
BEGIN:VTIMEZONE
TZID:Europe/Berlin
BEGIN:DAYLIGHT
TZOFFSETFROM:+0100
TZOFFSETTO:+0200
TZNAME:CEST
DTSTART:20250330T010000
END:DAYLIGHT
BEGIN:STANDARD
TZOFFSETFROM:+0200
TZOFFSETTO:+0100
TZNAME:CET
DTSTART:20251026T010000
END:STANDARD
BEGIN:DAYLIGHT
TZOFFSETFROM:+0100
TZOFFSETTO:+0200
TZNAME:CEST
DTSTART:20260329T010000
END:DAYLIGHT
BEGIN:STANDARD
TZOFFSETFROM:+0200
TZOFFSETTO:+0100
TZNAME:CET
DTSTART:20261025T010000
END:STANDARD
BEGIN:DAYLIGHT
TZOFFSETFROM:+0100
TZOFFSETTO:+0200
TZNAME:CEST
DTSTART:20270328T010000
END:DAYLIGHT
BEGIN:STANDARD
TZOFFSETFROM:+0200
TZOFFSETTO:+0100
TZNAME:CET
DTSTART:20271031T010000
END:STANDARD
END:VTIMEZONE
BEGIN:VEVENT
DTSTART;TZID=Europe/Berlin:20260424T173000
DTEND;TZID=Europe/Berlin:20260424T173000
DTSTAMP:20260424T013521
CREATED:20260414T115731Z
LAST-MODIFIED:20260414T115731Z
UID:25830-1777051800-1777051800@www.freilassing-evangelisch.de
SUMMARY:Freilassinger Tafel\, Lindenstr. 6
DESCRIPTION:
URL:https://www.freilassing-evangelisch.de/veranstaltung/freilassinger-tafel-lindenstr-6-22-2-2/
LOCATION:Freilassinger Tafel\, Lindenstr. 6\, Freilassing\, Deutschland
CATEGORIES:Freilassinger Tafel,Veranstaltungen
END:VEVENT
BEGIN:VEVENT
DTSTART;TZID=Europe/Berlin:20260424T173000
DTEND;TZID=Europe/Berlin:20260424T183000
DTSTAMP:20260424T013521
CREATED:20260414T115636Z
LAST-MODIFIED:20260414T115636Z
UID:25828-1777051800-1777055400@www.freilassing-evangelisch.de
SUMMARY:Kinderchor im Gemeindehaus an der Kreuzkirche
DESCRIPTION:
URL:https://www.freilassing-evangelisch.de/veranstaltung/kinderchor-im-gemeindehaus-an-der-kreuzkirche-12-2/
LOCATION:Gemeindehaus Freilassing\, Schulstraße 3a\, Freilassing\, 83395\, Deutschland
CATEGORIES:Chöre,Gemeindehaus Freilassing,Jugend,Veranstaltungen
END:VEVENT
BEGIN:VEVENT
DTSTART;TZID=Europe/Berlin:20260424T190000
DTEND;TZID=Europe/Berlin:20260425T120000
DTSTAMP:20260424T013521
CREATED:20260418T083628Z
LAST-MODIFIED:20260418T083628Z
UID:25846-1777057200-1777118400@www.freilassing-evangelisch.de
SUMMARY:Gebets & Anbetungsnacht
DESCRIPTION:Das Gebetshaus Rupertiwinkel lädt zu einer Gebets- und Anbetungsnacht am 24.4. ein Beginn ist um 19:00 in der Evangelischen Freien Gemeinde in Freilassing\, Industriestraße 8. Ab 21:00 bis 12:00 am Folgetag läuft dann die Gebetsnacht im Gebetshaus Rupertiwinkel\, Goldschmiedgasse 6 in Freilassing. \nEinladung als PDF
URL:https://www.freilassing-evangelisch.de/veranstaltung/gebets-anbetungsnacht/
LOCATION:Gebetshaus Freilassing\, Goldschmiedgasse 6\, Freilassing\, Bayern\, 83395\, Germany
CATEGORIES:Gruppen und Kreise,Veranstaltungen
END:VEVENT
END:VCALENDAR