BEGIN:VCALENDAR
VERSION:2.0
PRODID:-//Evangelisch-Lutherische Kirchengemeinde Freilassing - ECPv6.15.18//NONSGML v1.0//EN
CALSCALE:GREGORIAN
METHOD:PUBLISH
X-WR-CALNAME:Evangelisch-Lutherische Kirchengemeinde Freilassing
X-ORIGINAL-URL:https://www.freilassing-evangelisch.de
X-WR-CALDESC:Veranstaltungen für Evangelisch-Lutherische Kirchengemeinde Freilassing
REFRESH-INTERVAL;VALUE=DURATION:PT1H
X-Robots-Tag:noindex
X-PUBLISHED-TTL:PT1H
BEGIN:VTIMEZONE
TZID:Europe/Berlin
BEGIN:DAYLIGHT
TZOFFSETFROM:+0100
TZOFFSETTO:+0200
TZNAME:CEST
DTSTART:20250330T010000
END:DAYLIGHT
BEGIN:STANDARD
TZOFFSETFROM:+0200
TZOFFSETTO:+0100
TZNAME:CET
DTSTART:20251026T010000
END:STANDARD
BEGIN:DAYLIGHT
TZOFFSETFROM:+0100
TZOFFSETTO:+0200
TZNAME:CEST
DTSTART:20260329T010000
END:DAYLIGHT
BEGIN:STANDARD
TZOFFSETFROM:+0200
TZOFFSETTO:+0100
TZNAME:CET
DTSTART:20261025T010000
END:STANDARD
BEGIN:DAYLIGHT
TZOFFSETFROM:+0100
TZOFFSETTO:+0200
TZNAME:CEST
DTSTART:20270328T010000
END:DAYLIGHT
BEGIN:STANDARD
TZOFFSETFROM:+0200
TZOFFSETTO:+0100
TZNAME:CET
DTSTART:20271031T010000
END:STANDARD
END:VTIMEZONE
BEGIN:VEVENT
DTSTART;TZID=Europe/Berlin:20260426T100000
DTEND;TZID=Europe/Berlin:20260426T110000
DTSTAMP:20260426T013342
CREATED:20260414T115832Z
LAST-MODIFIED:20260414T115832Z
UID:25832-1777197600-1777201200@www.freilassing-evangelisch.de
SUMMARY:Gottesdienst in der Auferstehungskirche (Schmähl)
DESCRIPTION:
URL:https://www.freilassing-evangelisch.de/veranstaltung/gottesdienst-in-der-auferstehungskirche-schmaehl-23/
LOCATION:Evang.-Luth. Auferstehungskirche Mitterfelden\, Franz-Schubert-Straße 1\, Ainring\, Bayern\, 83404\, Deutschland
CATEGORIES:Auferstehungskirche Mitterfelden,Gottesdienste
END:VEVENT
BEGIN:VEVENT
DTSTART;TZID=Europe/Berlin:20260426T180000
DTEND;TZID=Europe/Berlin:20260426T190000
DTSTAMP:20260426T013342
CREATED:20260414T115916Z
LAST-MODIFIED:20260414T115916Z
UID:25834-1777226400-1777230000@www.freilassing-evangelisch.de
SUMMARY:Friedensgebet vor dem Rathaus in Mitterfelden
DESCRIPTION:
URL:https://www.freilassing-evangelisch.de/veranstaltung/friedensgebet-vor-dem-rathaus-in-mitterfelden/
LOCATION:Mitterfelden Rathaus\, Salzburger Str. 48\, Ainring\, Bayern\, 83404\, Deutschland
CATEGORIES:Gottesdienste,Veranstaltungen
END:VEVENT
END:VCALENDAR